BEGIN:VCALENDAR
VERSION:2.0
PRODID:-//mpefbell.org//NONSGML kigkonsult.se iCalcreator 2.30.10//
CALSCALE:GREGORIAN
METHOD:PUBLISH
UID:f7d98d6f-eb69-4435-a8f6-f7d9a9980c99
X-WR-CALDESC:Topgolf Fundraiser 2026\n\nSupporting Manassas Park City Schoo
 ls\n\nJoin the Manassas Park Education Foundation for a fun and engaging m
 orning at Topgolf in support of local students and educators.\n\nOur annua
 l Topgolf Fundraiser brings together community members\, local businesses\
 , educators\, and civic leaders for a relaxed\, social event that raises c
 ritical support for student scholarships and innovative teacher grants acr
 oss Manassas Park City Schools.\n\nWhether you’re an experienced golfer or
  just looking for a great way to give back\, Topgolf offers an interactive
  setting that encourages connection\, conversation\, and community impact.
 \n\nEvent Details\nSaturday\, April 18\, 2026\n10:00 a.m. – 1:00 p.m.\nTop
 golf\n\nTickets\nIndividual tickets will go on sale February 17 and includ
 e play and brunch. \n\nSponsorship Opportunities\nSponsorships are availab
 le now and offer a variety of ways for businesses and individuals to suppo
 rt Manassas Park City Schools while gaining meaningful visibility and enga
 gement at the event. Opportunities range from leadership-level sponsorship
 s to accessible community partnership options.\n\nTo learn more about spon
 sorships or to reserve a sponsorship level\, please contact:\nrachel.kirkl
 and@mpark.net\n\nWe look forward to welcoming you for a memorable morning 
 that strengthens our schools\, celebrates community partnership\, and supp
 orts opportunities for Manassas Park students.
X-WR-RELCALID:2728ea6b6f6c39d38212911ddc88e6c2
X-WR-TIMEZONE:America/New_York
BEGIN:VTIMEZONE
TZID:America/New_York
BEGIN:STANDARD
TZNAME:EST
DTSTART:20251102T020000
TZOFFSETFROM:-0400
TZOFFSETTO:-0500
RDATE:20261101T020000
END:STANDARD
BEGIN:DAYLIGHT
TZNAME:EDT
DTSTART:20260308T020000
TZOFFSETFROM:-0500
TZOFFSETTO:-0400
RDATE:20270314T020000
END:DAYLIGHT
END:VTIMEZONE
BEGIN:VEVENT
UID:21d098d8-670c-4677-8e39-f4bdef59db34
DTSTAMP:20260420T105550Z
DESCRIPTION:Topgolf Fundraiser 2026\n\nSupporting Manassas Park City School
 s\n\nJoin the Manassas Park Education Foundation for a fun and engaging mo
 rning at Topgolf in support of local students and educators.\n\nOur annual
  Topgolf Fundraiser brings together community members\, local businesses\,
  educators\, and civic leaders for a relaxed\, social event that raises cr
 itical support for student scholarships and innovative teacher grants acro
 ss Manassas Park City Schools.\n\nWhether you’re an experienced golfer or 
 just looking for a great way to give back\, Topgolf offers an interactive 
 setting that encourages connection\, conversation\, and community impact.
 \n\nEvent Details\nSaturday\, April 18\, 2026\n10:00 a.m. – 1:00 p.m.\nTop
 golf\n\nTickets\nIndividual tickets will go on sale February 17 and includ
 e play and brunch. \n\nSponsorship Opportunities\nSponsorships are availab
 le now and offer a variety of ways for businesses and individuals to suppo
 rt Manassas Park City Schools while gaining meaningful visibility and enga
 gement at the event. Opportunities range from leadership-level sponsorship
 s to accessible community partnership options.\n\nTo learn more about spon
 sorships or to reserve a sponsorship level\, please contact:\nrachel.kirkl
 and@mpark.net\n\nWe look forward to welcoming you for a memorable morning 
 that strengthens our schools\, celebrates community partnership\, and supp
 orts opportunities for Manassas Park students.
DTSTART;TZID=America/New_York:20260418T100000
DTEND;TZID=America/New_York:20260418T130000
LOCATION:20356 Commonwealth Center Dr\,\, Ashburn\, VA 20111 US
SUMMARY:Ring the BELL - TopGolf Loudoun
END:VEVENT
END:VCALENDAR
