BEGIN:VCALENDAR
VERSION:2.0
PRODID:-//mpefbell.org//NONSGML kigkonsult.se iCalcreator 2.30.10//
CALSCALE:GREGORIAN
METHOD:PUBLISH
UID:549c9cd5-4667-4225-aafd-77b30222e8db
X-WR-CALDESC:Join us for the Manassas Park Education Foundation’s inaugural
  Breakfast with the Superintendent—a community-building event designed to 
 connect local businesses\, city leaders\, and school staff with the missio
 n of supporting Manassas Park City Schools.\n\n🎯Why Attend?\n\nHear from S
 uperintendent Dr. Melissa Saunders on the state of our schools\n\nNetwork 
 with local business leaders and community partners\n\nLearn how your suppo
 rt powers student scholarships and innovative classroom grants\n\nExplore 
 partnerships with your local school division\n\n🌟Support the Mission\nAll 
 proceeds from this event directly benefit programs that uplift students an
 d educators across our division. Sponsorships are available and offer exce
 llent visibility among a wide network of families\, businesses\, and city 
 stakeholders.\n\nSponsorship Opportunities:\n\nSponsored Table (4 guests):
  $150 – Includes logo/name on table and in the program\n\nBreakfast Sponso
 r: $500 – All of the above + signage and verbal recognition\n\nPresenting 
 Sponsor: $1\,000+ – All of the above + premium table placement and speakin
 g opportunity
X-WR-RELCALID:0d8f6a5c50cfc1163d6f2dfab93684f9
X-WR-TIMEZONE:America/New_York
BEGIN:VTIMEZONE
TZID:America/New_York
BEGIN:STANDARD
TZNAME:EST
DTSTART:20241103T020000
TZOFFSETFROM:-0400
TZOFFSETTO:-0500
RDATE:20251102T020000
RDATE:20261101T020000
END:STANDARD
BEGIN:DAYLIGHT
TZNAME:EDT
DTSTART:20250309T020000
TZOFFSETFROM:-0500
TZOFFSETTO:-0400
RDATE:20260308T020000
RDATE:20270314T020000
END:DAYLIGHT
END:VTIMEZONE
BEGIN:VEVENT
UID:51687008-e259-466a-b9b8-3a00ea0b778e
DTSTAMP:20260423T102436Z
DESCRIPTION:Join us for the Manassas Park Education Foundation’s inaugural 
 Breakfast with the Superintendent—a community-building event designed to c
 onnect local businesses\, city leaders\, and school staff with the mission
  of supporting Manassas Park City Schools.\n\n🎯Why Attend?\n\nHear from Su
 perintendent Dr. Melissa Saunders on the state of our schools\n\nNetwork w
 ith local business leaders and community partners\n\nLearn how your suppor
 t powers student scholarships and innovative classroom grants\n\nExplore p
 artnerships with your local school division\n\n🌟Support the Mission\nAll p
 roceeds from this event directly benefit programs that uplift students and
  educators across our division. Sponsorships are available and offer excel
 lent visibility among a wide network of families\, businesses\, and city s
 takeholders.\n\nSponsorship Opportunities:\n\nSponsored Table (4 guests): 
 $150 – Includes logo/name on table and in the program\n\nBreakfast Sponsor
 : $500 – All of the above + signage and verbal recognition\n\nPresenting S
 ponsor: $1\,000+ – All of the above + premium table placement and speaking
  opportunity
DTSTART;TZID=America/New_York:20251016T073000
DTEND;TZID=America/New_York:20251016T090000
LOCATION:Preston's Pub\, 9103 Andrew Drive\, Manassas Park\, VA 20111
SUMMARY:Breakfast with the Superintendent
END:VEVENT
END:VCALENDAR
