BEGIN:VCALENDAR
VERSION:2.0
PRODID:-//mpefbell.org//NONSGML kigkonsult.se iCalcreator 2.30.10//
CALSCALE:GREGORIAN
METHOD:PUBLISH
UID:82d2da96-96d4-4886-98e4-5a79aa401a7e
X-WR-CALDESC:đźŽ‰Manassas Park City Schools Night at D.C. United! âš˝\nđź“…Saturday
 \, September 13\, 2025\nđź•˘Kickoff at 7:30 PM\nđź“ŤAudi Field\, Washington\, D.
 C.\n\nJoin us as we cheer on D.C. United vs. Orlando City during Manassas 
 Park Public Schools Night! đź–¤ť¤ď¸Ź\n\nđźŽź¸Ź Get up to 50% off tickets using our exc
 lusive link â€” and $5 from each ticket sold goes directly to the Manassas P
 ark Education Foundation!
X-WR-RELCALID:8b83609b7cb1795616616da9d26278ef
X-WR-TIMEZONE:America/New_York
BEGIN:VTIMEZONE
TZID:America/New_York
BEGIN:STANDARD
TZNAME:EST
DTSTART:20241103T020000
TZOFFSETFROM:-0400
TZOFFSETTO:-0500
RDATE:20251102T020000
RDATE:20261101T020000
END:STANDARD
BEGIN:DAYLIGHT
TZNAME:EDT
DTSTART:20250309T020000
TZOFFSETFROM:-0500
TZOFFSETTO:-0400
RDATE:20260308T020000
RDATE:20270314T020000
END:DAYLIGHT
END:VTIMEZONE
BEGIN:VEVENT
UID:c652119d-358b-4993-a6f3-7419717d981a
DTSTAMP:20260423T133730Z
DESCRIPTION:đźŽ‰Manassas Park City Schools Night at D.C. United! âš˝\nđź“…Saturday\
 , September 13\, 2025\nđź•˘Kickoff at 7:30 PM\nđź“ŤAudi Field\, Washington\, D.C
 .\n\nJoin us as we cheer on D.C. United vs. Orlando City during Manassas P
 ark Public Schools Night! đź–¤ť¤ď¸Ź\n\nđźŽź¸Ź Get up to 50% off tickets using our excl
 usive link â€” and $5 from each ticket sold goes directly to the Manassas Pa
 rk Education Foundation!
DTSTART;TZID=America/New_York:20250913T193000
DTEND;TZID=America/New_York:20250913T220000
LOCATION:100 Potomac Avenue SW\, Washington \, DC 20024 US
SUMMARY:Manassas Park City Schools Night at D.C. United!
END:VEVENT
END:VCALENDAR
